BEGIN:VCALENDAR
VERSION:2.0
PRODID:-//hacksw/handcal//NONSGML v1.0//EN
BEGIN:VEVENT
SUMMARY:RANDO DOUCE SERMAIZE LES BAINS
UID:0ff69a07-b966-47e3-9583-5550c459185d
DTSTART:20260305T130000Z
DTEND:20260305T153000Z
LOCATION:Localisation   
CATEGORIES:Sportif
STATUS:
DESCRIPTION:<p>rando a Sermaize en foret avec des chemins propres.
 Rdv 14h  Prendre la rue de Saint Dizier, devant la mairie et
 continuer jusqu'a la barriere en lisiere de foret.<br>
 Environ
 7km</p>
URL;VALUE=URI:https://perthoissportnature.sportsregions.fr/evenements/2026/03/05/rando-douce-sermaize-les-bains-2423195
END:VEVENT
END:VCALENDAR
