BEGIN:VCALENDAR
VERSION:2.0
PRODID:-//hacksw/handcal//NONSGML v1.0//EN
BEGIN:VEVENT
SUMMARY:RANDO DOUCE CHEMINON
UID:be31791b-17a5-40be-9b0d-f90b2874e3c7
DTSTART:20260312T130000Z
DTEND:20260312T160000Z
LOCATION:Localisation Sortie village Direction Saint Dizier 51250 CHEMINON
CATEGORIES:Sportif
STATUS:
DESCRIPTION:<p>a 14h randonnee d'environ 7 km a  Cheminon.
 Rendez-vous a  la sortie du village direction Saint Dizier. Quelques
 endroits un peu boueux mais on peut passer a cote.</p>
URL;VALUE=URI:https://perthoissportnature.sportsregions.fr/evenements/2026/03/12/rando-douce-cheminon-2426147
END:VEVENT
END:VCALENDAR
