BEGIN:VCALENDAR
VERSION:2.0
PRODID:-//hacksw/handcal//NONSGML v1.0//EN
BEGIN:VEVENT
SUMMARY:RANDO DOUCE ETREPY
UID:c42846fd-c2b7-4f97-9eb2-0c55630e7742
DTSTART:20260402T120000Z
DTEND:20260402T150000Z
LOCATION:Localisation Eglise 51340 Etrepy
CATEGORIES:Sportif
STATUS:
DESCRIPTION:<p><br>
 2 avril comme convenu rando douce 7km  .<br>
 RV
 Etrepy 14h00 devant l'eglise</p>
URL;VALUE=URI:https://perthoissportnature.sportsregions.fr/evenements/2026/04/02/rando-douce-etrepy-2436003
END:VEVENT
END:VCALENDAR
