BEGIN:VCALENDAR
VERSION:2.0
PRODID:-//hacksw/handcal//NONSGML v1.0//EN
BEGIN:VEVENT
SUMMARY:RANDO DOUCE SERMAIZE LES BAINS
UID:1de3c9e8-c1c4-4b55-b126-840810f1024b
DTSTART:20260409T120000Z
DTEND:20260409T150000Z
LOCATION:Localisation Salle des fetes 51250 SERMAIZE les BAINS
CATEGORIES:Sportif
STATUS:
DESCRIPTION:<p> rando douce  7km a Sermaize.</p>
 
 <p>RV 14h00
 devant la salle des fetes.<br>
 Nous parcourrrons les ruelles et
 alentours de Sermaize.</p>
URL;VALUE=URI:https://perthoissportnature.sportsregions.fr/evenements/2026/04/09/rando-douce-sermaize-les-bains-2439021
END:VEVENT
END:VCALENDAR
