BEGIN:VCALENDAR
VERSION:2.0
PRODID:-//hacksw/handcal//NONSGML v1.0//EN
BEGIN:VEVENT
SUMMARY:RANDO DOUCE HEILTZ LE MAURUPT
UID:1c6813a8-8f75-4233-8fdf-97ed22bc5242
DTSTART:20260416T120000Z
DTEND:20260416T150000Z
LOCATION:Localisation Terrain de football 51 Heiltz le Maurupt
CATEGORIES:Sportif
STATUS:
DESCRIPTION:<p>Rdv 14h, terrain de foot, pour environ 7km</p>
URL;VALUE=URI:https://perthoissportnature.sportsregions.fr/evenements/2026/04/16/rando-douce-heiltz-le-maurupt-2441351
END:VEVENT
END:VCALENDAR
