BEGIN:VCALENDAR
VERSION:2.0
PRODID:-//hacksw/handcal//NONSGML v1.0//EN
BEGIN:VEVENT
SUMMARY:RANDO DOUCE A MAURUPT LE MONTOIS
UID:6ca7bac5-9d6b-42ee-9134-d69a28beaac7
DTSTART:20260423T120000Z
DTEND:20260423T150000Z
LOCATION:Localisation Place 51 MAURUPT LE MONTOIS
CATEGORIES:Sportif
STATUS:
DESCRIPTION:<p> rando douce 7km a Maurupt le Montois.<br>
 RV 14h00
 sur la place ou nous prendrons les voitures pour le depart du circuit
 en sous bois.</p>
URL;VALUE=URI:https://perthoissportnature.sportsregions.fr/evenements/2026/04/23/rando-douce-a-maurupt-le-montois-2443785
END:VEVENT
END:VCALENDAR
